BEGIN:VCALENDAR
VERSION:2.0
PRODID:Events Booking
BEGIN:VEVENT
UID:69e85ef4485bd
SUMMARY:November SSE Premier Partner Workshop
DESCRIPTION:
LOCATION:Virtual
DTSTART:20251114T060500Z
DTEND:20251116T055500Z
DTSTAMP:20251112T204251Z
ORGANIZER;CN=Cisco Security Workshops:MAILTO:no-reply@ciscosecurityworkshop
 .com
GEO:25;-80.226529
X-APPLE-STRUCTURED-LOCATION;VALUE=URI;X-ADDRESS=Virtual;X-APPLE-RADIUS=72;X
 -TITLE=Virtual:25;-80.226529
END:VEVENT
END:VCALENDAR