BEGIN:VCALENDAR
VERSION:2.0
PRODID:Events Booking
BEGIN:VEVENT
UID:69e9d2170204e
SUMMARY:NSW Police Foundation
DESCRIPTION:Foundational Firewall Workshop for NSW Police.
LOCATION:Pacific Highway\, North Sydney Council\, 2065 New South Wales\, Au
 stralia
DTSTART:20260421T230000Z
DTEND:20260422T070000Z
DTSTAMP:20260420T021931Z
ORGANIZER;CN=Cisco Security Workshops:MAILTO:no-reply@ciscosecurityworkshop
 .com
GEO:-33.831021;151.203315
X-APPLE-STRUCTURED-LOCATION;VALUE=URI;X-ADDRESS=Pacific Highway\, North Syd
 ney Council\, 2065 New South Wales\, Australia;X-APPLE-RADIUS=72;X-TITLE=N
 orth Sydney:-33.831021;151.203315
END:VEVENT
END:VCALENDAR