BEGIN:VCALENDAR
VERSION:2.0
PRODID:Events Booking
BEGIN:VEVENT
UID:69e9d10c484dd
SUMMARY:NTT-Secure Firewall 10.0 Foundational
DESCRIPTION:
DTSTART:20260422T070000Z
DTEND:20260422T170000Z
DTSTAMP:20260421T120905Z
ORGANIZER;CN=Cisco Security Workshops:MAILTO:no-reply@ciscosecurityworkshop
 .com
END:VEVENT
END:VCALENDAR