BEGIN:VCALENDAR
VERSION:2.0
PRODID:Events Booking
BEGIN:VEVENT
UID:69ea48e321b63
SUMMARY:Omaha RIR Workshop
DESCRIPTION:Incident Response with Cisco XDR
 Cisco’s Extended Detection
  &amp\; Response (XDR) represents the evolution of traditional cybersecur
 ity solutions\, offering a more integrated and automated approach to threa
 t detection and response. As cyber threats become more sophisticated\, XD
 R provides a comprehensive defense mechanism that unifies multiple securi
 ty layers.
 Join our seasoned experts from Fortis by Sentinel to learn ho
 w XDR's ability to correlate and apply analytics on raw security alerts w
 ithin your organization can generate unprecedented visibility into an att
 ack .
 Discover how Fortis Managed Security services aim to enhance your 
 protection and reduce the burden on your team by handling the monitoring\
 , management\, and support of your security systems and devices.
 Lunch\
 , refreshments and snacks provided. Space is limited. Register today!
LOCATION:114 N 145th St\, Omaha\, NE 68154
DTSTART:20250220T100000Z
DTEND:20250220T140000Z
DTSTAMP:20250127T215410Z
ORGANIZER;CN=Cisco Security Workshops:MAILTO:no-reply@ciscosecurityworkshop
 .com
GEO:41.259516;-96.141521
X-APPLE-STRUCTURED-LOCATION;VALUE=URI;X-ADDRESS=114 N 145th St\, Omaha\, NE
  68154;X-APPLE-RADIUS=72;X-TITLE=30Hop:41.259516;-96.141521
END:VEVENT
END:VCALENDAR