BEGIN:VCALENDAR
VERSION:2.0
PRODID:Events Booking
BEGIN:VEVENT
UID:69ea7934a8d28
SUMMARY:Planet21 RIR
DESCRIPTION:
LOCATION:D02 WT20\, Ireland
DTSTART:20250618T100000Z
DTEND:20250618T140000Z
DTSTAMP:20250610T131423Z
ORGANIZER;CN=Cisco Security Workshops:MAILTO:no-reply@ciscosecurityworkshop
 .com
END:VEVENT
END:VCALENDAR