BEGIN:VCALENDAR
VERSION:2.0
PRODID:Events Booking
BEGIN:VEVENT
UID:69e8249187a59
SUMMARY:FW Portfolio Engineers 250617 Group B
DESCRIPTION:
DTSTART:20250617T130000Z
DTEND:20250618T050000Z
DTSTAMP:20250606T140855Z
ORGANIZER;CN=Cisco Security Workshops:MAILTO:no-reply@ciscosecurityworkshop
 .com
END:VEVENT
END:VCALENDAR