BEGIN:VCALENDAR
VERSION:2.0
PRODID:Events Booking
BEGIN:VEVENT
UID:69ea10bd80eac
SUMMARY:Presidio/Cisco Security Summit
DESCRIPTION: 
 We are excited to invite you to an interactive self-contain
 ed workshop on Cisco’s Hybrid Mesh Firewall!
 During this session\, you
  will step into the shoes of a fictional engineer at PseudoCo and work thr
 ough real-world scenarios that highlight the power and flexibility of Cisc
 o’s security solutions.
 The workshop will make extensive use of Cisco 
 Security Cloud Control and cover topics such as deployment\, SD-WAN config
 uration\, shared objects management\, and application segmentation. This i
 s a great opportunity to build hands-on experience and deepen your underst
 anding of modern network security practices.
 This is an opportunity to g
 et hands on with Hybrid Mesh Firewall through a self-paced workshop. 
 
 
 Key Takeaways:
 
 Clear understanding of Cisco’s Hybrid Mesh Firewal
 l solution and its advantages
 Gain hands-on experience with Cisco Securi
 ty Cloud Control for centralized and extensive security management
 Under
 stand how to configure SD-WAN for optimized and secure network connectivit
 y
 Explore enhanced cloud visibility to monitor and protect distributed a
 pplications and data
 Deepen your knowledge of Shared Objects and their r
 ole in efficient policy management
 Master application segmentation techn
 iques using both endpoint agents and the firewall for comprehensive securi
 ty.
 
LOCATION:Florida\, United States
DTSTART:20251020T090000Z
DTEND:20251021T010000Z
DTSTAMP:20251013T184006Z
ORGANIZER;CN=Cisco Security Workshops:MAILTO:no-reply@ciscosecurityworkshop
 .com
GEO:28.542111;-81.37903
X-APPLE-STRUCTURED-LOCATION;VALUE=URI;X-ADDRESS=Florida\, United States;X-A
 PPLE-RADIUS=72;X-TITLE=Florida\, Orlando:28.542111;-81.37903
END:VEVENT
END:VCALENDAR