BEGIN:VCALENDAR
VERSION:2.0
PRODID:Events Booking
BEGIN:VEVENT
UID:69ea866b93db1
SUMMARY:Private RIR - NCR Voyix
DESCRIPTION:Privately hosted workshop event for the NCR Voyix team. We'll u
 se this time to get hands on experience with XDR while the POV build out i
 s ongoing.
LOCATION:Virtual
DTSTART:20260116T130000Z
DTEND:20260116T190000Z
DTSTAMP:20260115T204011Z
ORGANIZER;CN=Cisco Security Workshops:MAILTO:no-reply@ciscosecurityworkshop
 .com
GEO:25;-80.226529
X-APPLE-STRUCTURED-LOCATION;VALUE=URI;X-ADDRESS=Virtual;X-APPLE-RADIUS=72;X
 -TITLE=Virtual:25;-80.226529
END:VEVENT
END:VCALENDAR