BEGIN:VCALENDAR
VERSION:2.0
PRODID:Events Booking
BEGIN:VEVENT
UID:69ea0f3d05c09
SUMMARY:purple-Darryl
DESCRIPTION:purple lab for Darryl
DTSTART:20251028T100000Z
DTEND:20251028T235500Z
DTSTAMP:20251028T145507Z
ORGANIZER;CN=Cisco Security Workshops:MAILTO:no-reply@ciscosecurityworkshop
 .com
END:VEVENT
END:VCALENDAR