BEGIN:VCALENDAR
VERSION:2.0
PRODID:Events Booking
BEGIN:VEVENT
UID:69ea0eda1898f
SUMMARY:purple_dave2
DESCRIPTION:purple teaming workshop for dave2
LOCATION:Volunteer Boulevard\, Henderson\, 89044 Nevada\, United States
DTSTART:20251013T010000Z
DTEND:20251013T235500Z
DTSTAMP:20251013T173932Z
ORGANIZER;CN=Cisco Security Workshops:MAILTO:no-reply@ciscosecurityworkshop
 .com
GEO:35.959611;-115.14339
X-APPLE-STRUCTURED-LOCATION;VALUE=URI;X-ADDRESS=Volunteer Boulevard\, Hende
 rson\, 89044 Nevada\, United States;X-APPLE-RADIUS=72;X-TITLE=RCN:35.95961
 1;-115.14339
END:VEVENT
END:VCALENDAR