BEGIN:VCALENDAR
VERSION:2.0
PRODID:Events Booking
BEGIN:VEVENT
UID:69ea11465c8ea
SUMMARY:purple team for dave
DESCRIPTION:workshop event for dave
DTSTART:20251013T010000Z
DTEND:20251013T235500Z
DTSTAMP:20251013T172243Z
ORGANIZER;CN=Cisco Security Workshops:MAILTO:no-reply@ciscosecurityworkshop
 .com
END:VEVENT
END:VCALENDAR