BEGIN:VCALENDAR
VERSION:2.0
PRODID:Events Booking
BEGIN:VEVENT
UID:69ea4ea10c12f
SUMMARY:Purple Teaming with Cisco Workshop - Tokyo
DESCRIPTION:
 This instructor led lab will walk attendees through a purple
  teaming exercise with Cisco XDR. Each attendee will be assigned a pod wit
 h test machines and Cisco Security tools predeployed. Starting with red te
 am activities attendees will gain initial access to a victim machine using
  a phishing email and the proceed to launch payloads using a variety of MI
 TRE TTP's. After running an attack attendees will start blue team activiti
 es to review the detections in Secure Endpoint\, Secure Firewall\, and Cis
 co XDR. Blue team activities entail sifting through device trajectory and 
 investigating incidents using the XDR toolset. Attendees will experience r
 unning an attack and using Cisco Security tools to remediate the threats g
 aining hands on purple teaming experience.​
 
 
  ​
 
 
 Traini
 ng Outline:​
 
 
 Introduction (15 mins)​
 
 
 Blind Eagle Attac
 k Emulation (1 hour)​
 
 
 Blue Teaming for Blind Eagle Attack (1 hou
 r)​
 
 
 Closing and Q&amp\;A (15 mins)
 
LOCATION:7\, Tokyo\, 107-0052 東京都\, Japan
DTSTART:20260115T230000Z
DTEND:20260116T140000Z
DTSTAMP:20260106T202621Z
ORGANIZER;CN=Cisco Security Workshops:MAILTO:no-reply@ciscosecurityworkshop
 .com
GEO:35.666329;139.731362
X-APPLE-STRUCTURED-LOCATION;VALUE=URI;X-ADDRESS=7\, Tokyo\, 107-0052 東京
 都\, Japan;X-APPLE-RADIUS=72;X-TITLE=Cisco Tokyo Office:35.666329;139.731
 362
END:VEVENT
END:VCALENDAR