BEGIN:VCALENDAR
VERSION:2.0
PRODID:Events Booking
BEGIN:VEVENT
UID:69ea826a17020
SUMMARY:Purple teaming with Cisco XDR December 15th APJC (2)
DESCRIPTION:
 This instructor led lab will walk attendees through a purple
  teaming exercise with Cisco XDR. Each attendee will be assigned a pod wi
 th test machines and Cisco Security tools predeployed. Starting with red
  team activities attendees will gain initial access to a victim machine us
 ing a phishing email and the proceed to launch payloads using a variety o
 f MITRE TTP's. After running an attack attendees will start blue team act
 ivities to review the detections in Secure Endpoint\, Secure Firewall\, a
 nd Cisco XDR. Blue team activities entail sifting through device trajector
 y and investigating incidents using the XDR toolset. Attendees will exper
 ience running an attack and using Cisco Security tools to remediate the t
 hreats gaining hands on purple teaming experience.​
 
 
  ​
 
 
 
 Training Outline:​
 
 
 Introduction (15 mins)
 
 
 Blind Eagle 
 Attack Emulation (1 hour)​
 
 
 Blue Teaming for Blind Eagle Attack (
 1 hour)​
 
 
 Closing and Q&amp\;A (15 mins)
 
LOCATION:Virtual
DTSTART:20251216T040000Z
DTEND:20251216T090000Z
DTSTAMP:20251215T204309Z
ORGANIZER;CN=Cisco Security Workshops:MAILTO:no-reply@ciscosecurityworkshop
 .com
GEO:25;-80.226529
X-APPLE-STRUCTURED-LOCATION;VALUE=URI;X-ADDRESS=Virtual;X-APPLE-RADIUS=72;X
 -TITLE=Virtual:25;-80.226529
END:VEVENT
END:VCALENDAR