BEGIN:VCALENDAR
VERSION:2.0
PRODID:Events Booking
BEGIN:VEVENT
UID:69ea508223479
SUMMARY:Purple Teaming with Cisco XDR APJC - 12.17
DESCRIPTION:This instructor led lab will walk attendees through a purple te
 aming exercise with Cisco XDR. Each attendee will be assigned a pod with t
 est machines and Cisco Security tools pre-deployed. Starting with red team
  activities attendees will gain initial access to a victim machine using a
  phishing email and the proceed to launch payloads using a variety of MITR
 E TTP's. After running an attack attendees will start blue team activities
  to review the detections in Secure Endpoint\, Secure Firewall\, and Cisco
  XDR. Blue team activities entail sifting through device trajectory and in
 vestigating incidents using the XDR toolset. Attendees will experience run
 ning an attack and using Cisco Security tools to remediate the threats gai
 ning hands on purple teaming experience.​
  ​
 Training Outline:​
 
 Introduction (15 mins)​
 Blind Eagle Attack Emulation (1 hour)​
 
 Blue Teaming for Blind Eagle Attack (1 hour)​
 Closing and Q&amp\;A (15
  mins)
LOCATION:Virtual
DTSTART:20251217T013000Z
DTEND:20251217T150000Z
DTSTAMP:20251209T204243Z
ORGANIZER;CN=Cisco Security Workshops:MAILTO:no-reply@ciscosecurityworkshop
 .com
GEO:25;-80.226529
X-APPLE-STRUCTURED-LOCATION;VALUE=URI;X-ADDRESS=Virtual;X-APPLE-RADIUS=72;X
 -TITLE=Virtual:25;-80.226529
END:VEVENT
END:VCALENDAR