BEGIN:VCALENDAR
VERSION:2.0
PRODID:Events Booking
BEGIN:VEVENT
UID:69ea4b4147827
SUMMARY:Purple Teaming with Cisco XDR -APJC 26 November
DESCRIPTION:This instructor led lab will walk attendees through a purple te
 aming exercise with Cisco XDR. Each attendee will be assigned a pod with t
 est machines and Cisco Security tools predeployed. Starting with red team 
 activities attendees will gain initial access to a victim machine using a 
 phishing email and the proceed to launch payloads using a variety of MITRE
  TTP's. After running an attack attendees will start blue team activities 
 to review the detections in Secure Endpoint\, Secure Firewall\, and Cisco 
 XDR. Blue team activities entail sifting through device trajectory and inv
 estigating incidents using the XDR toolset. Attendees will experience runn
 ing an attack and using Cisco Security tools to remediate the threats gain
 ing hands on purple teaming experience.
LOCATION:Dubai
DTSTART:20251126T000000Z
DTEND:20251126T235500Z
DTSTAMP:20251125T063158Z
ORGANIZER;CN=Cisco Security Workshops:MAILTO:no-reply@ciscosecurityworkshop
 .com
GEO:9999.999999;9999.999999
X-APPLE-STRUCTURED-LOCATION;VALUE=URI;X-ADDRESS=Dubai;X-APPLE-RADIUS=72;X-T
 ITLE=UAE:9999.999999;9999.999999
END:VEVENT
END:VCALENDAR