BEGIN:VCALENDAR
VERSION:2.0
PRODID:Events Booking
BEGIN:VEVENT
UID:69ea087ec1141
SUMMARY:Purple Teaming with Cisco XDR - April 23
DESCRIPTION:This instructor led lab will walk attendees through a purple te
 aming exercise with Cisco XDR. Each attendee will be assigned a pod with t
 est machines and Cisco Security tools predeployed. Starting with red team 
 activities attendees will gain initial access to a victim machine using a 
 phishing email and the proceed to launch payloads using a variety of MITRE
  TTP's. After running an attack attendees will start blue team activities 
 to review the detections in Secure Endpoint\, Secure Firewall\, and Cisco 
 XDR. Blue team activities entail sifting through device trajectory and inv
 estigating incidents using the XDR toolset. Attendees will experience runn
 ing an attack and using Cisco Security tools to remediate the threats gain
 ing hands on purple teaming experience.
  
 Training Outline:
 Introdu
 ction (15 mins)
 Blind Eagle Attack Emulation (1 hour)
 Blue Teaming for
  Blind Eagle Attack (1 hour)
 Closing and Q&amp\;A (15 mins)
DTSTART:20260423T170000Z
DTEND:20260423T210000Z
DTSTAMP:20260421T171126Z
ORGANIZER;CN=Cisco Security Workshops:MAILTO:no-reply@ciscosecurityworkshop
 .com
END:VEVENT
END:VCALENDAR