BEGIN:VCALENDAR
VERSION:2.0
PRODID:Events Booking
BEGIN:VEVENT
UID:69ea14aa13366
SUMMARY:Purple Teaming with Cisco XDR for Sentinel
DESCRIPTION:Purple Teaming with Cisco XDR for Sentinel
 This instructor le
 d lab will walk attendees through a purple teaming exercise with Cisco XDR
 . Each attendee will be assigned a pod with test machines and Cisco Securi
 ty tools predeployed. Starting with red team activities attendees will gai
 n initial access to a victim machine using a phishing email and the procee
 d to launch payloads using a variety of MITRE TTP's. After running an atta
 ck attendees will start blue team activities to review the detections in S
 ecure Endpoint\, Secure Firewall\, and Cisco XDR. Blue team activities ent
 ail sifting through device trajectory and investigating incidents using th
 e XDR toolset. Attendees will experience running an attack and using Cisco
  Security tools to remediate the threats gaining hands on purple teaming e
 xperience.
  
 Training Outline:
 1. Blind Eagle Attack Emulation (1 h
 our)
 2. Blue Teaming for Blind Eagle Attack (1 hour)
 3. Q&amp\;A (30 m
 ins) 
DTSTART:20250929T110000Z
DTEND:20250930T030000Z
DTSTAMP:20250925T161734Z
ORGANIZER;CN=Cisco Security Workshops:MAILTO:no-reply@ciscosecurityworkshop
 .com
END:VEVENT
END:VCALENDAR