BEGIN:VCALENDAR
VERSION:2.0
PRODID:Events Booking
BEGIN:VEVENT
UID:69ea3f153e213
SUMMARY:Purple Teaming with Cisco XDR - IU - April 1
DESCRIPTION:
LOCATION:Virtual
DTSTART:20260401T150000Z
DTEND:20260401T180000Z
DTSTAMP:20260401T025001Z
ORGANIZER;CN=Cisco Security Workshops:MAILTO:no-reply@ciscosecurityworkshop
 .com
GEO:25;-80.226529
X-APPLE-STRUCTURED-LOCATION;VALUE=URI;X-ADDRESS=Virtual;X-APPLE-RADIUS=72;X
 -TITLE=Virtual:25;-80.226529
END:VEVENT
END:VCALENDAR