BEGIN:VCALENDAR
VERSION:2.0
PRODID:Events Booking
BEGIN:VEVENT
UID:69ea4f5e3fd7d
SUMMARY:Purple Teaming with Cisco XDR - US East Virtual
DESCRIPTION:Bringing the Fight to the Adversary.
 Get ready to switch from
  attacker to defender in this instructor-led lab. 
 Launch phishing-base
 d intrusions mapped to MITRE TTPs\, then pivot to blue-team work with Secu
 re Firewall\, Secure Network Analytics\, Secure Email\, and Cisco XDR.
 Y
 ou’ll experience the full purple-team loop—attack\, detect\, investiga
 te\, and remediate—building hands-on skills that strengthen defenses whe
 re it counts. 
LOCATION:Virtual
DTSTART:20260211T110000Z
DTEND:20260211T190000Z
DTSTAMP:20260203T204934Z
ORGANIZER;CN=Cisco Security Workshops:MAILTO:no-reply@ciscosecurityworkshop
 .com
GEO:25;-80.226529
X-APPLE-STRUCTURED-LOCATION;VALUE=URI;X-ADDRESS=Virtual;X-APPLE-RADIUS=72;X
 -TITLE=Virtual:25;-80.226529
END:VEVENT
END:VCALENDAR