BEGIN:VCALENDAR
VERSION:2.0
PRODID:Events Booking
BEGIN:VEVENT
UID:69ea14aa40421
SUMMARY:Purple Teaming with XDR - PVT Dubai
DESCRIPTION:
LOCATION:A004-024\, Al Safouh 2 Knowledge Village Dubai\, Dubai 500321 Unit
 ed Arab Emirates
DTSTART:20251120T080000Z
DTEND:20251120T195500Z
DTSTAMP:20251120T093715Z
ORGANIZER;CN=Cisco Security Workshops:MAILTO:no-reply@ciscosecurityworkshop
 .com
END:VEVENT
END:VCALENDAR