BEGIN:VCALENDAR
VERSION:2.0
PRODID:Events Booking
BEGIN:VEVENT
UID:69ea763e381ad
SUMMARY:PurpleXDR
DESCRIPTION:
LOCATION:South Las Vegas Boulevard\, Paradise\, 89109 Nevada\, United State
 s
DTSTART:20250825T140000Z
DTEND:20250826T060000Z
DTSTAMP:20250824T181937Z
ORGANIZER;CN=Cisco Security Workshops:MAILTO:no-reply@ciscosecurityworkshop
 .com
GEO:36.104744;-115.176509
X-APPLE-STRUCTURED-LOCATION;VALUE=URI;X-ADDRESS=South Las Vegas Boulevard\,
  Paradise\, 89109 Nevada\, United States;X-APPLE-RADIUS=72;X-TITLE=TechEle
 vate:36.104744;-115.176509
END:VEVENT
END:VCALENDAR