BEGIN:VCALENDAR
VERSION:2.0
PRODID:Events Booking
BEGIN:VEVENT
UID:69e9cffa960fd
SUMMARY:Range Resource Cisco Secure Access Workshop
DESCRIPTION:Join us for an immersive\, hands-on workshop designed to equip 
 you with the knowledge and skills needed to effectively implement and mana
 ge Cisco Secure Access—Cisco’s converged Cloud Security Service Edge
  (SSE) solution.
 What You’ll Learn:This comprehensive session begins 
 with a deep dive into the evolution of remote access technologies\, includ
 ing VPN\, SSE\, and an introduction to the core principles of Zero Trust 
 Network Access (ZTNA). Participants will then explore Cisco Secure Access 
 in depth\, focusing on:
 
 
 Configuring and managing Secure Access env
 ironments
 
 
 Implementing secure internet and private access
 
 
 
 Defining and enforcing user access policies
 
 
 Applying user posturin
 g strategies for enhanced security
 
 
 Workshop Benefits:By the end of
  the session\, you’ll gain practical\, real-world experience and the con
 fidence to deploy and operate Cisco Secure Access effectively within your 
 organization.
LOCATION:Virtual
DTSTART:20260429T150000Z
DTEND:20260429T210000Z
DTSTAMP:20260420T172607Z
ORGANIZER;CN=Cisco Security Workshops:MAILTO:no-reply@ciscosecurityworkshop
 .com
GEO:25;-80.226529
X-APPLE-STRUCTURED-LOCATION;VALUE=URI;X-ADDRESS=Virtual;X-APPLE-RADIUS=72;X
 -TITLE=Virtual:25;-80.226529
END:VEVENT
END:VCALENDAR