BEGIN:VCALENDAR
VERSION:2.0
PRODID:Events Booking
BEGIN:VEVENT
UID:69ea4a5311254
SUMMARY:Rapid Incident Response - ComEast
DESCRIPTION:
 
 
 
 
 
 
 
 
 
 
 
 
 
 
 
 
 
 
 
 
 
 
 
 
 
 Hi there\,
  
 Ever dreamt of going on a thrilling cyber ad
 venture\, tracking elusive adversaries in the digital shadows? Your missio
 n\, should you choose to accept\, is to join us for an exhilarating Rapid 
 Incident Response Workshop. Here’s why you won't want to miss out:
  
 
 🎯 Mission Briefing: Kick off your adventure with a hands-on lab desi
 gned to enhance your investigation and threat hunting expertise.
  
 
 🌐 Defend against sophisticated APTs with Cisco XDR: Learn how to empow
 er your teams to go from endless investigation to remediating the highest 
 priority incidents with greater speed\, efficiency\, and confidence. We wi
 ll explore how to:
  
 •  Identify patterns and correlations in thre
 at activity with root cause and attack chain analysis•  Leverage machin
 e learning to prioritize incidents based on risk and impact•  Elevate p
 roductivity with automation and guidance
  
 🍽️ Refuel and Rechar
 ge: All that work sure works up an appetite! Join us for lunch to seize ne
 tworking opportunities within the cybersecurity community and cultivate va
 luable connections. Sponsored by Cisco Security – Experience solutions b
 uilt for SecOps pros by SecOps pros!
 
 
 
 
 
 
 
 
 
 
 
 

  
 
 
 
 
 
 
 
 
 
 
 
 
 
 
 
 
 
 
 
 
 
 
 
 W
 hether you are an experienced cyber professional or a beginner\, this work
 shop guarantees a mix of education\, excitement\, and engaging content. Se
 ize the chance\, upskill\, and leave no threat undetected. Secure your spo
 t now and leave with a clear plan you can take back to your organization.
 
  
 *This session is ideal for security analysts of all experience leve
 ls\, including security operations staff\, incident responders and threat 
 hunters.
 
 
 
 
 
 
 
 
 
 
 
 
 
 
 
 
 
 
 
 
 
 
 
 
 
 
LOCATION:Virtual
DTSTART:20250917T130000Z
DTEND:20250917T180000Z
DTSTAMP:20250917T130638Z
ORGANIZER;CN=Cisco Security Workshops:MAILTO:no-reply@ciscosecurityworkshop
 .com
GEO:25;-80.226529
X-APPLE-STRUCTURED-LOCATION;VALUE=URI;X-ADDRESS=Virtual;X-APPLE-RADIUS=72;X
 -TITLE=Virtual:25;-80.226529
END:VEVENT
END:VCALENDAR