BEGIN:VCALENDAR
VERSION:2.0
PRODID:Events Booking
BEGIN:VEVENT
UID:69ea90dae8b6e
SUMMARY:Rapid Incident Response for K-12
DESCRIPTION:🎯 Mission Briefing: Kick off your adventure with a hands-o
 n lab designed to enhance your investigation and incident response experti
 se.
 🌐 Defend against sophisticated APTs with Cisco XDR: Learn how to
  empower your teams to go from endless investigation to remediating the hi
 ghest priority incidents with greater speed\, efficiency\, and confidence.
  We will explore how to:
 · Identify patterns and correlations in threat
  activity with root cause and attack chain analysis
 · Leverage machine 
 learning to prioritize incidents based on risk and impact
 · Elevate pro
 ductivity with automation and guidance
 🍽️ Refuel and Recharge: All
  that work sure works up an appetite! Join us for lunch to seize networkin
 g opportunities within the cybersecurity community and cultivate valuable 
 connections.
LOCATION:7100-8 Kit Creek Road PO Box 14987 Research Triangle Park\, North 
 Carolina 27709-4987 United States
DTSTART:20250507T100000Z
DTEND:20250507T140000Z
DTSTAMP:20250404T153614Z
ORGANIZER;CN=Cisco Security Workshops:MAILTO:no-reply@ciscosecurityworkshop
 .com
END:VEVENT
END:VCALENDAR