BEGIN:VCALENDAR
VERSION:2.0
PRODID:Events Booking
BEGIN:VEVENT
UID:69e96fac7aa94
SUMMARY:Rapid Incident Response (RiR) with Cisco XDR (Location Berlin) 
DESCRIPTION:Rapid Incident Response (RiR) with Cisco XDR Workshop 
  
 
 Starten Sie ein aufregendes Cyber-Abenteuer\, um schwer erkennbaren Angrei
 fern mit komplexen Angriffen auf die Spur zu kommen. Nehmen Sie die Missio
 n an\, um zu erleben\, wie die Cisco Breach Protection genutzt werden kann
 \, um Sicherheitsvorfälle schnell zu erkennen\, zu priorisieren und darau
 f zu reagieren. Dabei werden die KI-gesteuerten und automatisierten Fähig
 keiten genutzt\, um Sicherheitsoperationen zu optimieren und die Effizienz
  der Security Operations Center (SOC)-Teams zu steigern.
  
 Bei dieser
  eintägigen Veranstaltung im Cisco Büro Ihrer Nähe entdecken Sie - begl
 eitet vom Cisco Security Team - die Bedeutung des “SOC of the Future“.
 
  
 Auftanken und Aufladen: All diese Arbeit macht garantiert Appetit!
  Besuchen Sie uns zum Mittagessen\, um die Netzwerkmöglichkeiten innerhal
 b der Cybersicherheits-Community zu nutzen und wertvolle Verbindungen zu p
 flegen.  
  
 Egal\, ob Sie ein erfahrener Cyber-Profi oder ein Anfä
 nger sind\, dieser Workshop garantiert eine Mischung aus Bildung\, Spannun
 g und ansprechenden Inhalt. Ergreifen Sie die Chance\, verbessern Sie Ihre
  Fähigkeiten und lassen Sie keine Bedrohung unentdeckt. Sichern Sie sich 
 jetzt Ihren Platz und gehen Sie mit einem klaren Plan\, den Sie zu Ihrer O
 rganisation zurückbringen können. 
  
 Die Anzahl der Teilnehmer ist
  begrenzt. Reservieren Sie Ihren Platz gerne schon heute. 
  
 Vielen 
 Dank\,  
  
 Ihr Cisco Security Team 
LOCATION:Kurfürstendamm\, Berlin\, 10719\, Germany
DTSTART:20250514T090000Z
DTEND:20250516T230000Z
DTSTAMP:20250204T102955Z
ORGANIZER;CN=Cisco Security Workshops:MAILTO:no-reply@ciscosecurityworkshop
 .com
GEO:52.511016;13.326954
X-APPLE-STRUCTURED-LOCATION;VALUE=URI;X-ADDRESS=Kurfürstendamm\, Berlin\, 
 10719\, Germany;X-APPLE-RADIUS=72;X-TITLE=Cisco Office Berlin:52.511016;13
 .326954
END:VEVENT
END:VCALENDAR