BEGIN:VCALENDAR
VERSION:2.0
PRODID:Events Booking
BEGIN:VEVENT
UID:69ea4b1cabb8c
SUMMARY:Rapid Incident Response with Cisco XDR - Tier 1 partner event
DESCRIPTION:
LOCATION:Bedfont Road\, London\, TW14 8HA 
DTSTART:20250313T093000Z
DTEND:20250313T163000Z
DTSTAMP:20250205T102019Z
ORGANIZER;CN=Cisco Security Workshops:MAILTO:no-reply@ciscosecurityworkshop
 .com
GEO:51.445877;-0.440557
X-APPLE-STRUCTURED-LOCATION;VALUE=URI;X-ADDRESS=Bedfont Road\, London\, TW1
 4 8HA ;X-APPLE-RADIUS=72;X-TITLE=Cisco Office Bedfont Lakes:51.445877;-0.4
 40557
END:VEVENT
END:VCALENDAR