BEGIN:VCALENDAR
VERSION:2.0
PRODID:Events Booking
BEGIN:VEVENT
UID:69ea84ac632a8
SUMMARY:Rapid Incident Response with Cisco XDR - University of Guelph
DESCRIPTION:RIR with Cisco XDR course for University of Guelph - Masters of
  Cyber Security Program
LOCATION:Research Lane\, Guelph\, N1G 5G4 Ontario\, Canada
DTSTART:20250305T120000Z
DTEND:20250305T180000Z
DTSTAMP:20250224T160818Z
ORGANIZER;CN=Cisco Security Workshops:MAILTO:no-reply@ciscosecurityworkshop
 .com
GEO:43.521334;-80.229537
X-APPLE-STRUCTURED-LOCATION;VALUE=URI;X-ADDRESS=Research Lane\, Guelph\, N1
 G 5G4 Ontario\, Canada;X-APPLE-RADIUS=72;X-TITLE=University of Guelph - MC
 TI:43.521334;-80.229537
END:VEVENT
END:VCALENDAR