BEGIN:VCALENDAR
VERSION:2.0
PRODID:Events Booking
BEGIN:VEVENT
UID:69e89345aac6e
SUMMARY:ReIgniteHMF_Nagoya_30Oct 
DESCRIPTION:This is Firewall Ignite 2
LOCATION:2-4-3 Nishiki\, Naka Ward\, Nagoya City\, Aichi
DTSTART:20251029T210000Z
DTEND:20251029T110000Z
DTSTAMP:20251007T044832Z
ORGANIZER;CN=Cisco Security Workshops:MAILTO:no-reply@ciscosecurityworkshop
 .com
END:VEVENT
END:VCALENDAR