BEGIN:VCALENDAR
VERSION:2.0
PRODID:Events Booking
BEGIN:VEVENT
UID:69e8236c22069
SUMMARY:ReIgniteHMF_Osaka_15Oct 
DESCRIPTION:This is Firewall Ignite 2
LOCATION:Osaka Kokusai Building\, Osaka\, Japan\, 541-0052
DTSTART:20251014T210000Z
DTEND:20251014T110000Z
DTSTAMP:20251007T043003Z
ORGANIZER;CN=Cisco Security Workshops:MAILTO:no-reply@ciscosecurityworkshop
 .com
END:VEVENT
END:VCALENDAR