BEGIN:VCALENDAR
VERSION:2.0
PRODID:Events Booking
BEGIN:VEVENT
UID:69e7ea5fade12
SUMMARY:ReIgniteHMF_RTP_14Jun
DESCRIPTION:
DTSTART:20250325T100000Z
DTEND:20250325T160000Z
DTSTAMP:20250325T133916Z
ORGANIZER;CN=Cisco Security Workshops:MAILTO:no-reply@ciscosecurityworkshop
 .com
END:VEVENT
END:VCALENDAR