BEGIN:VCALENDAR
VERSION:2.0
PRODID:Events Booking
BEGIN:VEVENT
UID:69e8231612405
SUMMARY:ReIgniteHMF_Tokyo2_29Oct 
DESCRIPTION:This is Firewall Ignite 2
LOCATION:Tokyo\, Japan
DTSTART:20251027T150000Z
DTEND:20251027T145500Z
DTSTAMP:20251007T044549Z
ORGANIZER;CN=Cisco Security Workshops:MAILTO:no-reply@ciscosecurityworkshop
 .com
GEO:35.662457;139.733498
X-APPLE-STRUCTURED-LOCATION;VALUE=URI;X-ADDRESS=Tokyo\, Japan;X-APPLE-RADIU
 S=72;X-TITLE=Cisco Japan Tokyo Office:35.662457;139.733498
END:VEVENT
END:VCALENDAR