BEGIN:VCALENDAR
VERSION:2.0
PRODID:Events Booking
BEGIN:VEVENT
UID:69e85edc8c70d
SUMMARY:ReIgniteHMF_Tokyo2_29Oct2
DESCRIPTION:
LOCATION:Tokyo\, Japan
DTSTART:20251029T150000Z
DTEND:20251029T145500Z
DTSTAMP:20251029T035810Z
ORGANIZER;CN=Cisco Security Workshops:MAILTO:no-reply@ciscosecurityworkshop
 .com
GEO:35.662457;139.733498
X-APPLE-STRUCTURED-LOCATION;VALUE=URI;X-ADDRESS=Tokyo\, Japan;X-APPLE-RADIU
 S=72;X-TITLE=Cisco Japan Tokyo Office:35.662457;139.733498
END:VEVENT
END:VCALENDAR