BEGIN:VCALENDAR
VERSION:2.0
PRODID:Events Booking
BEGIN:VEVENT
UID:69ea4b426ede8
SUMMARY:RIR - Johannesburg - SA - 8-7-25
DESCRIPTION:
LOCATION:Building 2\, The Ingress\, 23 Magwa Cres\, Midrand\, 2090\, South 
 Africa
DTSTART:20250708T070000Z
DTEND:20250708T215500Z
DTSTAMP:20250708T050154Z
ORGANIZER;CN=Cisco Security Workshops:MAILTO:no-reply@ciscosecurityworkshop
 .com
GEO:-26.012964;28.108003
X-APPLE-STRUCTURED-LOCATION;VALUE=URI;X-ADDRESS=Building 2\, The Ingress\, 
 23 Magwa Cres\, Midrand\, 2090\, South Africa;X-APPLE-RADIUS=72;X-TITLE=Ci
 sco Office Johannesburg:-26.012964;28.108003
END:VEVENT
END:VCALENDAR