BEGIN:VCALENDAR
VERSION:2.0
PRODID:Events Booking
BEGIN:VEVENT
UID:69e823184be76
SUMMARY:RIR_McLean_25Sep25
DESCRIPTION:
LOCATION:Tysons One Place\, Tysons\, 22102 Virginia\, United States
DTSTART:20250925T120000Z
DTEND:20250925T210000Z
DTSTAMP:20250916T192414Z
ORGANIZER;CN=Cisco Security Workshops:MAILTO:no-reply@ciscosecurityworkshop
 .com
GEO:38.919543;-77.219623
X-APPLE-STRUCTURED-LOCATION;VALUE=URI;X-ADDRESS=Tysons One Place\, Tysons\,
  22102 Virginia\, United States;X-APPLE-RADIUS=72;X-TITLE=Cisco Office - M
 cLean:38.919543;-77.219623
END:VEVENT
END:VCALENDAR