BEGIN:VCALENDAR
VERSION:2.0
PRODID:Events Booking
BEGIN:VEVENT
UID:69ea13a0a4893
SUMMARY:RIR_SanJose_17Sep25
DESCRIPTION:Cisco Fire Jumper Breach Base Tour San Jose RIR - Sep 17-18 202
 5
LOCATION:East Tasman Drive\, San Jose\, 95134 California\, United States
DTSTART:20250917T150000Z
DTEND:20250918T010000Z
DTSTAMP:20250909T044035Z
ORGANIZER;CN=Cisco Security Workshops:MAILTO:no-reply@ciscosecurityworkshop
 .com
GEO:37.414517;-121.935009
X-APPLE-STRUCTURED-LOCATION;VALUE=URI;X-ADDRESS=East Tasman Drive\, San Jos
 e\, 95134 California\, United States;X-APPLE-RADIUS=72;X-TITLE=Cisco Offic
 e San Jose:37.414517;-121.935009
END:VEVENT
END:VCALENDAR