BEGIN:VCALENDAR
VERSION:2.0
PRODID:Events Booking
BEGIN:VEVENT
UID:69e823d40d767
SUMMARY:RIR_Toronto2_27Nov25
DESCRIPTION:
LOCATION:88 Queens Quay West\, Toronto\, M5J 2J2 Ontario\, Canada
DTSTART:20251127T130000Z
DTEND:20251127T220000Z
DTSTAMP:20251112T184113Z
ORGANIZER;CN=Cisco Security Workshops:MAILTO:no-reply@ciscosecurityworkshop
 .com
GEO:43.640948;-79.378169
X-APPLE-STRUCTURED-LOCATION;VALUE=URI;X-ADDRESS=88 Queens Quay West\, Toron
 to\, M5J 2J2 Ontario\, Canada;X-APPLE-RADIUS=72;X-TITLE=Toronto Office :43
 .640948;-79.378169
END:VEVENT
END:VCALENDAR