BEGIN:VCALENDAR
VERSION:2.0
PRODID:Events Booking
BEGIN:VEVENT
UID:69ea82e4b2d9b
SUMMARY:RIR-University Of Doha
DESCRIPTION:
LOCATION:Doha\, Qatar
DTSTART:20250519T070000Z
DTEND:20250519T235500Z
DTSTAMP:20250518T161240Z
ORGANIZER;CN=Cisco Security Workshops:MAILTO:no-reply@ciscosecurityworkshop
 .com
GEO:25.369528;51.552212
X-APPLE-STRUCTURED-LOCATION;VALUE=URI;X-ADDRESS=Doha\, Qatar;X-APPLE-RADIUS
 =72;X-TITLE=University Of Doha:25.369528;51.552212
END:VEVENT
END:VCALENDAR