BEGIN:VCALENDAR
VERSION:2.0
PRODID:Events Booking
BEGIN:VEVENT
UID:69ea489092e5b
SUMMARY:RIRv7
DESCRIPTION:
LOCATION:Kurfürstendamm\, Berlin\, 10719\, Germany
DTSTART:20250515T120000Z
DTEND:20250515T220000Z
DTSTAMP:20250515T104143Z
ORGANIZER;CN=Cisco Security Workshops:MAILTO:no-reply@ciscosecurityworkshop
 .com
GEO:52.511016;13.326954
X-APPLE-STRUCTURED-LOCATION;VALUE=URI;X-ADDRESS=Kurfürstendamm\, Berlin\, 
 10719\, Germany;X-APPLE-RADIUS=72;X-TITLE=Cisco Office Berlin:52.511016;13
 .326954
END:VEVENT
END:VCALENDAR