BEGIN:VCALENDAR
VERSION:2.0
PRODID:Events Booking
BEGIN:VEVENT
UID:69ea4d345f4d5
SUMMARY:Secure Access - Lisbon 26th Feb
DESCRIPTION:
LOCATION:Portugal
DTSTART:20260226T090000Z
DTEND:20260226T170000Z
DTSTAMP:20260224T110133Z
ORGANIZER;CN=Cisco Security Workshops:MAILTO:no-reply@ciscosecurityworkshop
 .com
GEO:39.662165;-8.135352
X-APPLE-STRUCTURED-LOCATION;VALUE=URI;X-ADDRESS=Portugal;X-APPLE-RADIUS=72;
 X-TITLE=Lisbon\, Portugal:39.662165;-8.135352
END:VEVENT
END:VCALENDAR