BEGIN:VCALENDAR
VERSION:2.0
PRODID:Events Booking
BEGIN:VEVENT
UID:69ea8fe0b2248
SUMMARY:Secure Access Workshop
DESCRIPTION:
 Cisco Secure Access is a converged cloud Security Service Ed
 ge (SSE) solution that is better for users\, easier for IT\, and safer for
  everyone. It enforces modern cybersecurity while providing a seamless and
  frictionless experience as users connect from anything to anywhere\, via 
 a common access approach.
 
 Cisco Secure Access simplifies IT and InfoS
 ec operations through a single\, cloud-managed console\, unified client\, 
 centralized policy creation\, and aggregated reporting. Cisco Secure Acces
 s extensive security capabilities include:
 
 
 Clientless Zero Trust N
 etwork Access (ZTNA)Client Zero Trust Network Access (ZTNA)VPN as a Servic
 e (VPNaaS)Digital Experience Monitoring (DEM) Firewall as a Service (FWaaS
 )Intrusion Prevention System (IPS)Domain Name System (DNS) SecuritySecure 
 Web Gateway (SWG)Multimode Malware ProtectionCloud Access Security Broker 
 (CASB)Data Loss Prevention (DLP)Remote Browser Isolation (RBI)
 
 The em
 phasis on this lab is walking through a number of scenarios to experience 
 what an end user would in an environment with Cisco Secure Access implemen
 ted.
 Key Takeaways
 
 Gain firsthand experience with Cisco Secure Acce
 ss features and capabilities\, such as Zero Trust Network Access (ZTNA)\, 
 Secure Web Gateway (SWG)\, and Firewall as a Service (FWaaS).
 Understand
  how Cisco Secure Access delivers a seamless and secure user experience wh
 ile simplifying IT and InfoSec operations.
 Learn how to navigate a unifi
 ed\, cloud-managed console for centralized policy creation\, aggregated re
 porting\, and a unified client experience.
 See how advanced security fea
 tures like Data Loss Prevention (DLP)\, Cloud Access Security Broker (CASB
 )\, and Remote Browser Isolation (RBI) can protect your organization’s c
 ritical assets.
 Discover how to assess digital experience performance wi
 th integrated Digital Experience Monitoring (DEM).
 
 
 What to Expect
 
 
 A hands-on walkthrough of real-world scenarios to experience how Cisc
 o Secure Access operates from an end-user perspective.
 An introduction t
 o the Secure Access console (read-only access) to explore its functionalit
 ies and understand its role in simplifying IT operations.
 Insights into 
 how Cisco Secure Access integrates with your existing IT infrastructure to
  enforce modern cybersecurity practices.
 Practical demonstrations of the
  platform’s capabilities\, including Zero Trust principles\, advanced ma
 lware protection\, and secure access management.
 
 
 Who Should Attend
 
 
 IT Security Professionals: Looking to enhance their organization’s
  security posture with a unified Security Service Edge (SSE) solution.
 I
 T Administrators: Interested in simplifying operations through centralized
  policy management and a cloud-managed console.
 CISOs and Security Leade
 rs: Evaluating modern security solutions to meet the demands of hybrid wor
 k environments.
 Network Engineers: Seeking to understand how Cisco Secur
 e Access integrates with existing network architectures.
 Compliance Offi
 cers: Focused on data loss prevention\, policy enforcement\, and regulator
 y compliance.
 
 
 Workshop Format
 
 Duration: 2-3 hours (flexible b
 ased on the audience needs).
 Interactive Scenarios: Participants will wa
 lk through guided scenarios to experience Cisco Secure Access in action.

  Hands-On Exploration: Engage with the Secure Access console (read-only) t
 o understand the platform’s interface and key functionalities.
 Q&amp\;
 A Session: Time allocated for participants to ask technical questions and 
 receive expert guidance.
 
 
 Why Attend
 
 Future-Proof Your Securit
 y Strategy: Learn how Cisco Secure Access addresses modern security challe
 nges\, including securing hybrid work environments and protecting against 
 sophisticated threats.
 Simplify IT Operations: See how a unified console
  and centralized policy creation can reduce complexity and improve efficie
 ncy for your IT team.
 Enhance User Experience: Discover how Cisco Secure
  Access provides a seamless and frictionless experience for end users\, en
 abling productivity without compromising security.
 Real-World Scenarios:
  Gain practical insights into how Secure Access operates in real-world sce
 narios\, giving you the confidence to implement and manage the solution.

  Expert Insights: Get guidance from Cisco experts who will walk you throug
 h the platform’s features and answer your specific questions.
 
 
 Th
 is workshop is an excellent opportunity to experience the power and simpli
 city of Cisco Secure Access firsthand and understand how it can help your 
 organization enforce modern cybersecurity while enhancing productivity and
  efficiency.
LOCATION:7100-8 Kit Creek Road PO Box 14987 Research Triangle Park\, North 
 Carolina 27709-4987 United States
DTSTART:20250918T170000Z
DTEND:20250918T200000Z
DTSTAMP:20250912T001534Z
ORGANIZER;CN=Cisco Security Workshops:MAILTO:no-reply@ciscosecurityworkshop
 .com
END:VEVENT
END:VCALENDAR