BEGIN:VCALENDAR
VERSION:2.0
PRODID:Events Booking
BEGIN:VEVENT
UID:69ea07d12fa4e
SUMMARY:Secure Firewall Milan 23 April TestDrive 10.0 Advanced
DESCRIPTION:
LOCATION:Piazza Gae Aulenti Milano 
DTSTART:20260423T080000Z
DTEND:20260423T160000Z
DTSTAMP:20260414T135547Z
ORGANIZER;CN=Cisco Security Workshops:MAILTO:no-reply@ciscosecurityworkshop
 .com
END:VEVENT
END:VCALENDAR