BEGIN:VCALENDAR
VERSION:2.0
PRODID:Events Booking
BEGIN:VEVENT
UID:69e9d20deba1c
SUMMARY:Secure Firewall Milan April TestDrive 10.0 Advanced 
DESCRIPTION:Advanced Lab
DTSTART:20260423T170000Z
DTEND:20260423T180000Z
DTSTAMP:20260414T163534Z
ORGANIZER;CN=Cisco Security Workshops:MAILTO:no-reply@ciscosecurityworkshop
 .com
END:VEVENT
END:VCALENDAR