BEGIN:VCALENDAR
VERSION:2.0
PRODID:Events Booking
BEGIN:VEVENT
UID:69ea7d89dfa79
SUMMARY:Seed Unit Program - Ingram Micro Hong Kong
DESCRIPTION:
LOCATION:KT\, HK
DTSTART:20260421T020000Z
DTEND:20260421T100000Z
DTSTAMP:20260409T102300Z
ORGANIZER;CN=Cisco Security Workshops:MAILTO:no-reply@ciscosecurityworkshop
 .com
END:VEVENT
END:VCALENDAR