BEGIN:VCALENDAR
VERSION:2.0
PRODID:Events Booking
BEGIN:VEVENT
UID:69ea7f642ac71
SUMMARY:Segmentation Untangled: NC SLED
DESCRIPTION:
LOCATION:7100-8 Kit Creek Road PO Box 14987 Research Triangle Park\, North 
 Carolina 27709-4987 United States
DTSTART:20260324T140000Z
DTEND:20260324T180000Z
DTSTAMP:20260217T221047Z
ORGANIZER;CN=Cisco Security Workshops:MAILTO:no-reply@ciscosecurityworkshop
 .com
END:VEVENT
END:VCALENDAR