BEGIN:VCALENDAR
VERSION:2.0
PRODID:Events Booking
BEGIN:VEVENT
UID:69ea4bbbc6ffb
SUMMARY:Simac - HMF
DESCRIPTION:
LOCATION:Netherlands
DTSTART:20260312T083000Z
DTEND:20260312T163000Z
DTSTAMP:20260311T192915Z
ORGANIZER;CN=Cisco Security Workshops:MAILTO:no-reply@ciscosecurityworkshop
 .com
GEO:52.243498;5.634323
X-APPLE-STRUCTURED-LOCATION;VALUE=URI;X-ADDRESS=Netherlands;X-APPLE-RADIUS=
 72;X-TITLE=Netherlands:52.243498;5.634323
END:VEVENT
END:VCALENDAR