BEGIN:VCALENDAR
VERSION:2.0
PRODID:Events Booking
BEGIN:VEVENT
UID:69ea40700eec9
SUMMARY:SITE SSE workshop
DESCRIPTION:
LOCATION:Digital City\, Riyadh
DTSTART:20260218T080000Z
DTEND:20260218T205500Z
DTSTAMP:20260215T180124Z
ORGANIZER;CN=Cisco Security Workshops:MAILTO:no-reply@ciscosecurityworkshop
 .com
GEO:24.7404;46.6354
X-APPLE-STRUCTURED-LOCATION;VALUE=URI;X-ADDRESS=Digital City\, Riyadh;X-APP
 LE-RADIUS=72;X-TITLE=Cisco Office Riyadh:24.7404;46.6354
END:VEVENT
END:VCALENDAR