BEGIN:VCALENDAR
VERSION:2.0
PRODID:Events Booking
BEGIN:VEVENT
UID:69ea12b076e56
SUMMARY:STCs ZT v1 21th Dec
DESCRIPTION:
 
 
 
 
 
 
 
 
  
 
 
 Course Title:Designing an
 d Deploying Zero Trust Access with Cisco Secure Access
 
 Course Descrip
 tion:Step into the role of a network security administrator in this guided
 \, hands-on workshop. You’ll learn how to design\, deploy\, and validate
  a modern Zero Trust Access solution using Cisco Secure Access. Acting as 
 the administrator for the fictional organization PseudoCo\, you will confi
 gure secure connectivity between remote users and private applications hos
 ted in a secure data center.
 You’ll have full administrative access to
  a dedicated virtual data center environment in Cisco’s dCloud\, pre-pro
 visioned for Secure Access integration. Each participant also receives a u
 nique Secure Access organization\, enabling you to configure and test infr
 astructure in any Secure Access region\, with recommendations to align set
 tings with your specific dCloud Data Center location.
 
 Workshop Highli
 ghts
 
 Real-World Zero Trust Scenarios: Configure secure connectivity 
 for remote users and private applications.
 Hands-On Labs: Access to a f
 ully provisioned virtual data center and unique Secure Access organization
 .
 End-to-End Deployment: Learn to set up VPNs\, IP pools\, and tunnels 
 for seamless\, secure access.
 Expert Guidance: Step-by-step lab exercis
 es and access to proctors for support.
 
 
 Key Takeaways
 
 Practica
 l experience deploying Zero Trust Access solutions using Cisco Secure Acce
 ss.
 Skills to configure and validate secure connections between distribu
 ted users and applications.
 Understanding of best practices for aligning
  Secure Access configurations with data center regions.
 
 
 Who Should
  Attend
 
 IT and network administrators responsible for securing enterp
 rise access.
 Security engineers and architects interested in Zero Trust 
 methodologies.
 Anyone preparing to deploy Cisco Secure Access solutions 
 in their organization.
 
 
 Workshop Format
 
 Hands-On Labs: Intera
 ctive\, guided exercises in a live dCloud virtual environment.
 Instructo
 r Support: Direct assistance from proctors and subject matter experts.
 
 Individual Access: Each attendee receives their own Secure Access organiz
 ation and isolated lab environment.
 
 
 Prerequisites
 
 Familiarity
  with basic networking and security concepts.
 Prior experience with remo
 te access technologies or Cisco solutions is helpful but not required.
 A
 ccess to a Cisco dCloud account (provided as part of the course).
 
 
 
 Why Attend?
 This workshop offers a unique\, practical opportunity to mas
 ter Zero Trust Access with Cisco Secure Access in a risk-free\, fully supp
 orted lab environment. You’ll leave with the confidence and know-how to 
 implement secure\, modern access solutions tailored to your organization
 ’s needs.
 
 
 
 
 
 
 
 
 
 
 
LOCATION:Digital City\, Riyadh
DTSTART:20251221T060000Z
DTEND:20251221T200000Z
DTSTAMP:20251218T095137Z
ORGANIZER;CN=Cisco Security Workshops:MAILTO:no-reply@ciscosecurityworkshop
 .com
GEO:24.7404;46.6354
X-APPLE-STRUCTURED-LOCATION;VALUE=URI;X-ADDRESS=Digital City\, Riyadh;X-APP
 LE-RADIUS=72;X-TITLE=Cisco Office Riyadh:24.7404;46.6354
END:VEVENT
END:VCALENDAR