BEGIN:VCALENDAR
VERSION:2.0
PRODID:Events Booking
BEGIN:VEVENT
UID:69e8318470888
SUMMARY:TD Synnex - Cisco HMF
DESCRIPTION:
DTSTART:20251022T070000Z
DTEND:20251022T150000Z
DTSTAMP:20251021T112445Z
ORGANIZER;CN=Cisco Security Workshops:MAILTO:no-reply@ciscosecurityworkshop
 .com
END:VEVENT
END:VCALENDAR