BEGIN:VCALENDAR
VERSION:2.0
PRODID:Events Booking
BEGIN:VEVENT
UID:69e83184626df
SUMMARY:TD Synnex - Cisco HMF
DESCRIPTION:
LOCATION:Belgium
DTSTART:20251106T070000Z
DTEND:20251106T170000Z
DTSTAMP:20251103T110234Z
ORGANIZER;CN=Cisco Security Workshops:MAILTO:no-reply@ciscosecurityworkshop
 .com
GEO:50.640281;4.666715
X-APPLE-STRUCTURED-LOCATION;VALUE=URI;X-ADDRESS=Belgium;X-APPLE-RADIUS=72;X
 -TITLE=Belgium:50.640281;4.666715
END:VEVENT
END:VCALENDAR