BEGIN:VCALENDAR
VERSION:2.0
PRODID:Events Booking
BEGIN:VEVENT
UID:69e831ae9085b
SUMMARY:TD Synnex - Cisco HMF
DESCRIPTION:
LOCATION:Turkey
DTSTART:20251105T050000Z
DTEND:20251105T170000Z
DTSTAMP:20251103T110508Z
ORGANIZER;CN=Cisco Security Workshops:MAILTO:no-reply@ciscosecurityworkshop
 .com
GEO:39.294076;35.231663
X-APPLE-STRUCTURED-LOCATION;VALUE=URI;X-ADDRESS=Turkey;X-APPLE-RADIUS=72;X-
 TITLE=Turkey:39.294076;35.231663
END:VEVENT
END:VCALENDAR